BEGIN:VCALENDAR
VERSION:2.0
PRODID:-//OOTA - ECPv6.15.20//NONSGML v1.0//EN
CALSCALE:GREGORIAN
METHOD:PUBLISH
X-ORIGINAL-URL:https://www.oota.org
X-WR-CALDESC:Events for OOTA
REFRESH-INTERVAL;VALUE=DURATION:PT1H
X-Robots-Tag:noindex
X-PUBLISHED-TTL:PT1H
BEGIN:VTIMEZONE
TZID:America/New_York
BEGIN:DAYLIGHT
TZOFFSETFROM:-0500
TZOFFSETTO:-0400
TZNAME:EDT
DTSTART:20240310T070000
END:DAYLIGHT
BEGIN:STANDARD
TZOFFSETFROM:-0400
TZOFFSETTO:-0500
TZNAME:EST
DTSTART:20241103T060000
END:STANDARD
BEGIN:DAYLIGHT
TZOFFSETFROM:-0500
TZOFFSETTO:-0400
TZNAME:EDT
DTSTART:20250309T070000
END:DAYLIGHT
BEGIN:STANDARD
TZOFFSETFROM:-0400
TZOFFSETTO:-0500
TZNAME:EST
DTSTART:20251102T060000
END:STANDARD
BEGIN:DAYLIGHT
TZOFFSETFROM:-0500
TZOFFSETTO:-0400
TZNAME:EDT
DTSTART:20260308T070000
END:DAYLIGHT
BEGIN:STANDARD
TZOFFSETFROM:-0400
TZOFFSETTO:-0500
TZNAME:EST
DTSTART:20261101T060000
END:STANDARD
END:VTIMEZONE
BEGIN:VEVENT
DTSTART;TZID=America/New_York:20250311T183000
DTEND;TZID=America/New_York:20250311T193000
DTSTAMP:20260422T172202
CREATED:20250213T211710Z
LAST-MODIFIED:20250213T211811Z
UID:4117-1741717800-1741721400@www.oota.org
SUMMARY:Live Webinar- Management of UE Amputations Through the Lens of OT
DESCRIPTION:LIVE WEBINAR – March 11\, 2025 \nPresented by: LaDonna Weir\, OTD\, MOT\, OTR/L\, CHT\n1 Contact Hour \nThis presentation explores the crucial role of occupational therapy practitioners in the rehabilitation of upper extremity amputees\, focusing on assessment\, therapeutic interventions\, and long-term care. Attendees will learn key strategies for enhancing functionality and independence\, including prosthetic training\, adaptive equipment\, and motor relearning. The session emphasizes the importance of interdisciplinary collaboration in creating patient-centered care plans and integrating evidence-based practices to improve outcomes. By the end\, participants will gain practical knowledge to enhance their approach to working with upper extremity amputees\, ultimately fostering greater independence and quality of life for their patients. \nRegister Here
URL:https://www.oota.org/event/live-webinar-management-of-ue-amputations-through-the-lens-of-ot/
LOCATION:Online
CATEGORIES:continuing ed,Live Webinar,occupational therapy
ATTACH;FMTTYPE=image/jpeg:https://www.oota.org/wp-content/uploads/2025/02/pexels-cottonbro-6153348-scaled.jpg
END:VEVENT
BEGIN:VEVENT
DTSTART;TZID=America/New_York:20250313T190000
DTEND;TZID=America/New_York:20250313T200000
DTSTAMP:20260422T172202
CREATED:20250226T184345Z
LAST-MODIFIED:20250307T224137Z
UID:4343-1741892400-1741896000@www.oota.org
SUMMARY:Live Webinar ~ Everyday Ethics in OT – Striving for Excellence
DESCRIPTION:LIVE WEBINAR – March 13\, 2025 \nPresented by: Barbara Elleman\, OTD\, OTR/L and Marita Hensley\, COTA/L\, ROH\n1 Contact Hour | Meets the CE requirement ethics\, jurisprudence\, or cultural competence for Ohio licensure renewal.  \nThis presentation will provide occupational therapy personnel with an overview of ethical behavior and decision making in the field. Attendees will be provided with resources to support ethical practice and striving for excellence as they navigate everyday ethical challenges. \nRegister Here
URL:https://www.oota.org/event/live-webinar-everyday-ethics-in-ot-striving-for-excellence/
LOCATION:Online
CATEGORIES:continuing ed,Live Webinar,Virtual
ATTACH;FMTTYPE=image/jpeg:https://www.oota.org/wp-content/uploads/2025/02/pexels-markus-winkler-1430818-30855414-scaled.jpg
END:VEVENT
END:VCALENDAR