BEGIN:VCALENDAR
VERSION:2.0
PRODID:-//OOTA - ECPv6.15.20//NONSGML v1.0//EN
CALSCALE:GREGORIAN
METHOD:PUBLISH
X-WR-CALNAME:OOTA
X-ORIGINAL-URL:https://www.oota.org
X-WR-CALDESC:Events for OOTA
REFRESH-INTERVAL;VALUE=DURATION:PT1H
X-Robots-Tag:noindex
X-PUBLISHED-TTL:PT1H
BEGIN:VTIMEZONE
TZID:America/New_York
BEGIN:DAYLIGHT
TZOFFSETFROM:-0500
TZOFFSETTO:-0400
TZNAME:EDT
DTSTART:20240310T070000
END:DAYLIGHT
BEGIN:STANDARD
TZOFFSETFROM:-0400
TZOFFSETTO:-0500
TZNAME:EST
DTSTART:20241103T060000
END:STANDARD
BEGIN:DAYLIGHT
TZOFFSETFROM:-0500
TZOFFSETTO:-0400
TZNAME:EDT
DTSTART:20250309T070000
END:DAYLIGHT
BEGIN:STANDARD
TZOFFSETFROM:-0400
TZOFFSETTO:-0500
TZNAME:EST
DTSTART:20251102T060000
END:STANDARD
BEGIN:DAYLIGHT
TZOFFSETFROM:-0500
TZOFFSETTO:-0400
TZNAME:EDT
DTSTART:20260308T070000
END:DAYLIGHT
BEGIN:STANDARD
TZOFFSETFROM:-0400
TZOFFSETTO:-0500
TZNAME:EST
DTSTART:20261101T060000
END:STANDARD
END:VTIMEZONE
BEGIN:VEVENT
DTSTART;TZID=America/New_York:20251023T180000
DTEND;TZID=America/New_York:20251023T193000
DTSTAMP:20260422T075701
CREATED:20251021T141451Z
LAST-MODIFIED:20251021T141510Z
UID:8315-1761242400-1761247800@www.oota.org
SUMMARY:Live Webinar ~ OTs role in bowel and Bladder Programming with the SCI Population
DESCRIPTION:LIVE WEBINAR – October 23\, 2025 \nPresented by: Colleen Hirsch OTR/L and Allison Wigham OTR/L\n1.5 Contact Hours \nThe course is about the OTs role in bowel and bladder programming with the SCI population. \nRegister Here
URL:https://www.oota.org/event/live-webinar-ots-role-in-bowel-and-bladder-programming-with-the-sci-population/
LOCATION:Online
CATEGORIES:Live Webinar
ATTACH;FMTTYPE=image/jpeg:https://www.oota.org/wp-content/uploads/2025/10/pexels-ivan-samkov-4989186-scaled.jpg
END:VEVENT
END:VCALENDAR