BEGIN:VCALENDAR
VERSION:2.0
PRODID:-//OOTA - ECPv6.15.20//NONSGML v1.0//EN
CALSCALE:GREGORIAN
METHOD:PUBLISH
X-WR-CALNAME:OOTA
X-ORIGINAL-URL:https://www.oota.org
X-WR-CALDESC:Events for OOTA
REFRESH-INTERVAL;VALUE=DURATION:PT1H
X-Robots-Tag:noindex
X-PUBLISHED-TTL:PT1H
BEGIN:VTIMEZONE
TZID:America/New_York
BEGIN:DAYLIGHT
TZOFFSETFROM:-0500
TZOFFSETTO:-0400
TZNAME:EDT
DTSTART:20240310T070000
END:DAYLIGHT
BEGIN:STANDARD
TZOFFSETFROM:-0400
TZOFFSETTO:-0500
TZNAME:EST
DTSTART:20241103T060000
END:STANDARD
BEGIN:DAYLIGHT
TZOFFSETFROM:-0500
TZOFFSETTO:-0400
TZNAME:EDT
DTSTART:20250309T070000
END:DAYLIGHT
BEGIN:STANDARD
TZOFFSETFROM:-0400
TZOFFSETTO:-0500
TZNAME:EST
DTSTART:20251102T060000
END:STANDARD
BEGIN:DAYLIGHT
TZOFFSETFROM:-0500
TZOFFSETTO:-0400
TZNAME:EDT
DTSTART:20260308T070000
END:DAYLIGHT
BEGIN:STANDARD
TZOFFSETFROM:-0400
TZOFFSETTO:-0500
TZNAME:EST
DTSTART:20261101T060000
END:STANDARD
END:VTIMEZONE
BEGIN:VEVENT
DTSTART;TZID=America/New_York:20250417T170000
DTEND;TZID=America/New_York:20250417T180000
DTSTAMP:20260422T171514
CREATED:20250319T233505Z
LAST-MODIFIED:20250416T005831Z
UID:4736-1744909200-1744912800@www.oota.org
SUMMARY:Live Webinar - After ACES: The Impact on Development and Behaviors and Need for Healthy Coping/ Social Emotional Skills in Youth
DESCRIPTION:LIVE WEBINAR – April 17\, 2025 \nPresented by: Shiloh Reynolds\, S/OT; Kelly Gelske\, OTD\, OTR/L\n1 Contact Hour  \nThis presentation will provide examples of social determinants of health and family level and community-level adverse experiences\, provide an overviews of certain societal trends related to adverse experiences\, provide relevant statistics\, and describe the neural/developmental impact of adverse childhood experiences. Attendees will reflect on the role of OT in promoting resilience factors like healthy coping skills\, as well as learn about examples of social/emotional/ coping/self-regulation strategies across multiple MTSS Tiers for school-based therapy. \nRegister Here
URL:https://www.oota.org/event/live-webinar-after-aces-the-impact-on-development-and-behaviors-and-need-for-healthy-coping-social-emotional-skills-in-youth/
LOCATION:Online
CATEGORIES:continuing ed,Live Webinar,pediatrics
ATTACH;FMTTYPE=image/jpeg:https://www.oota.org/wp-content/uploads/2025/03/pexels-tatianasyrikova-3932846-scaled-e1742426680656.jpg
END:VEVENT
END:VCALENDAR