BEGIN:VCALENDAR
VERSION:2.0
PRODID:-//OOTA - ECPv6.15.20//NONSGML v1.0//EN
CALSCALE:GREGORIAN
METHOD:PUBLISH
X-ORIGINAL-URL:https://www.oota.org
X-WR-CALDESC:Events for OOTA
REFRESH-INTERVAL;VALUE=DURATION:PT1H
X-Robots-Tag:noindex
X-PUBLISHED-TTL:PT1H
BEGIN:VTIMEZONE
TZID:America/New_York
BEGIN:DAYLIGHT
TZOFFSETFROM:-0500
TZOFFSETTO:-0400
TZNAME:EDT
DTSTART:20240310T070000
END:DAYLIGHT
BEGIN:STANDARD
TZOFFSETFROM:-0400
TZOFFSETTO:-0500
TZNAME:EST
DTSTART:20241103T060000
END:STANDARD
BEGIN:DAYLIGHT
TZOFFSETFROM:-0500
TZOFFSETTO:-0400
TZNAME:EDT
DTSTART:20250309T070000
END:DAYLIGHT
BEGIN:STANDARD
TZOFFSETFROM:-0400
TZOFFSETTO:-0500
TZNAME:EST
DTSTART:20251102T060000
END:STANDARD
BEGIN:DAYLIGHT
TZOFFSETFROM:-0500
TZOFFSETTO:-0400
TZNAME:EDT
DTSTART:20260308T070000
END:DAYLIGHT
BEGIN:STANDARD
TZOFFSETFROM:-0400
TZOFFSETTO:-0500
TZNAME:EST
DTSTART:20261101T060000
END:STANDARD
END:VTIMEZONE
BEGIN:VEVENT
DTSTART;TZID=America/New_York:20250501T190000
DTEND;TZID=America/New_York:20250501T203000
DTSTAMP:20260422T155426
CREATED:20250414T192705Z
LAST-MODIFIED:20250414T192705Z
UID:5629-1746126000-1746131400@www.oota.org
SUMMARY:Live Webinar - Handwriting in the 21st Century:  What Does the Evidence Say?
DESCRIPTION:LIVE WEBINAR – May 1\, 2025 \nPresented by: Beverly Moskowitz\, DOT\, MS\, OTR/L\, FAOTA\n1.5 Contact Hours  \nThis short course will discuss why handwriting is still relevant in the 21st century and how addressing this vital skill falls within the Occupational Therapy Practice Framework. We will briefly cover empirical and neuroscientific research on why the shift needs to be back to basics\, strategies to embed handwriting across the curriculum. \nRegister Here
URL:https://www.oota.org/event/live-webinar-handwriting-in-the-21-century/
LOCATION:Online
CATEGORIES:continuing ed,Live Webinar,pediatrics,Virtual
ATTACH;FMTTYPE=image/jpeg:https://www.oota.org/wp-content/uploads/2025/04/Handwritting-webinar-scaled.jpg
END:VEVENT
END:VCALENDAR