BEGIN:VCALENDAR
VERSION:2.0
PRODID:-//OOTA - ECPv6.15.20//NONSGML v1.0//EN
CALSCALE:GREGORIAN
METHOD:PUBLISH
X-ORIGINAL-URL:https://www.oota.org
X-WR-CALDESC:Events for OOTA
REFRESH-INTERVAL;VALUE=DURATION:PT1H
X-Robots-Tag:noindex
X-PUBLISHED-TTL:PT1H
BEGIN:VTIMEZONE
TZID:America/New_York
BEGIN:DAYLIGHT
TZOFFSETFROM:-0500
TZOFFSETTO:-0400
TZNAME:EDT
DTSTART:20240310T070000
END:DAYLIGHT
BEGIN:STANDARD
TZOFFSETFROM:-0400
TZOFFSETTO:-0500
TZNAME:EST
DTSTART:20241103T060000
END:STANDARD
BEGIN:DAYLIGHT
TZOFFSETFROM:-0500
TZOFFSETTO:-0400
TZNAME:EDT
DTSTART:20250309T070000
END:DAYLIGHT
BEGIN:STANDARD
TZOFFSETFROM:-0400
TZOFFSETTO:-0500
TZNAME:EST
DTSTART:20251102T060000
END:STANDARD
BEGIN:DAYLIGHT
TZOFFSETFROM:-0500
TZOFFSETTO:-0400
TZNAME:EDT
DTSTART:20260308T070000
END:DAYLIGHT
BEGIN:STANDARD
TZOFFSETFROM:-0400
TZOFFSETTO:-0500
TZNAME:EST
DTSTART:20261101T060000
END:STANDARD
END:VTIMEZONE
BEGIN:VEVENT
DTSTART;TZID=America/New_York:20251111T183000
DTEND;TZID=America/New_York:20251111T193000
DTSTAMP:20260422T080230
CREATED:20251016T025441Z
LAST-MODIFIED:20251016T025441Z
UID:8251-1762885800-1762889400@www.oota.org
SUMMARY:Live Webinar ~ Prosthetics and the Role of OT
DESCRIPTION:LIVE WEBINAR – November 11\, 2025 \nPresented by: Ava Thaman\n1.0 Contact Hours \nThe course will include 4 modules covering common types of amputations\, basic prosthetic components\, and the essential role of occupational therapy in promoting independence and participation in meaningful daily activities. Each module will have a short pre and post quiz to optimize learning. Emphasis will be placed on real-world strategies\, client-centered interventions\, and interdisciplinary collaboration to support holistic\, compassionate care. \nRegister Here
URL:https://www.oota.org/event/live-webinar-prosthetics-and-the-role-of-ot/
CATEGORIES:Live Webinar
ATTACH;FMTTYPE=image/jpeg:https://www.oota.org/wp-content/uploads/2025/05/prosthetics-jpg.jpg
END:VEVENT
END:VCALENDAR